BEGIN:VCALENDAR
VERSION:2.0
PRODID:-//Chrysalis Herbs - ECPv6.15.20//NONSGML v1.0//EN
CALSCALE:GREGORIAN
METHOD:PUBLISH
X-WR-CALNAME:Chrysalis Herbs
X-ORIGINAL-URL:https://chrysalisherbs.com
X-WR-CALDESC:Events for Chrysalis Herbs
REFRESH-INTERVAL;VALUE=DURATION:PT1H
X-Robots-Tag:noindex
X-PUBLISHED-TTL:PT1H
BEGIN:VTIMEZONE
TZID:America/Denver
BEGIN:DAYLIGHT
TZOFFSETFROM:-0700
TZOFFSETTO:-0600
TZNAME:MDT
DTSTART:20180311T090000
END:DAYLIGHT
BEGIN:STANDARD
TZOFFSETFROM:-0600
TZOFFSETTO:-0700
TZNAME:MST
DTSTART:20181104T080000
END:STANDARD
BEGIN:DAYLIGHT
TZOFFSETFROM:-0700
TZOFFSETTO:-0600
TZNAME:MDT
DTSTART:20190310T090000
END:DAYLIGHT
BEGIN:STANDARD
TZOFFSETFROM:-0600
TZOFFSETTO:-0700
TZNAME:MST
DTSTART:20191103T080000
END:STANDARD
BEGIN:DAYLIGHT
TZOFFSETFROM:-0700
TZOFFSETTO:-0600
TZNAME:MDT
DTSTART:20200308T090000
END:DAYLIGHT
BEGIN:STANDARD
TZOFFSETFROM:-0600
TZOFFSETTO:-0700
TZNAME:MST
DTSTART:20201101T080000
END:STANDARD
END:VTIMEZONE
BEGIN:VEVENT
DTSTART;VALUE=DATE:20190920
DTEND;VALUE=DATE:20190923
DTSTAMP:20260421T111316
CREATED:20190516T214143Z
LAST-MODIFIED:20190516T214143Z
UID:3678-1568937600-1569196799@chrysalisherbs.com
SUMMARY:Pacific Women's Herbal Conference
DESCRIPTION:Come to lovely Vashon Island\, Washington where we will be celebrating Herbal Roots and Ancestral Wisdom at the 5th annual Pacific Women’s Herbal Conference. There will be over 40 workshops and intensives focusing on women’s health and nourishment\, herb walks\, plant wisdom\, and more. The $425 registration includes the conference\, rustic lodging\, and meals from Friday dinner to Sunday breakfast. The conference is held at Camp Stealth with 400 wooded acres that include beachfront\, walking trails\, and fire circles. Come celebrate\, make new friends\, and immerse yourself in the wise woman ways. www.pacificwomensherbalconference.com
URL:https://chrysalisherbs.com/event/pacific-womens-herbal-conference/
CATEGORIES:Classes,Herb Conference
ATTACH;FMTTYPE=image/jpeg:https://chrysalisherbs.com/wp-content/uploads/2018/06/June-In-Colorado-e1558042287161.jpg
END:VEVENT
END:VCALENDAR